BEGIN:VCALENDAR
VERSION:2.0
PRODID:-//hacksw/handcal//NONSGML v1.0//EN
BEGIN:VEVENT
SUMMARY:MATCH DF3
UID:5302379b-9867-4d90-860b-d450078fd8c2
DTSTART:20260430T180000Z
DTEND:20260430T220000Z
LOCATION:Localisation COMPLEXE SPORTIF ANDRE WAZZAU - 1 RUE DU STADE 76160 SAINT JACQUES SUR DARNETAL
CATEGORIES:Sportif
STATUS:
URL;VALUE=URI:https://www.ussjbasket.fr/evenements/2026/04/30/match-df3-2312059
END:VEVENT
END:VCALENDAR
